BEGIN:VCALENDAR
VERSION:2.0
PRODID:-//ChamberMaster//Event Calendar 2.0//EN
METHOD:PUBLISH
X-PUBLISHED-TTL:P3D
REFRESH-INTERVAL:P3D
CALSCALE:GREGORIAN
BEGIN:VEVENT
DTSTART;VALUE=DATE:20240704
DTEND;VALUE=DATE:20240705
TRANSP:TRANSPARENT
X-MICROSOFT-CDO-ALLDAYEVENT:TRUE
SUMMARY:4th of July Fireworks
DESCRIPTION:Park Rapids Rotary Fireworks!! Come see one of the best shows in the area! Great viewing options would be Heartland Park\, Main Street\, and more! Grab a lawn chair and find your perfect spot to watch the show! Donate to the Park Rapids Rotary who (funds our fireworks show each year) below!\n\n\n\nhttps://www.parkrapidsrotary.com/?fbclid=IwZXh0bgNhZW0CMTAAAR1_S2606UYlt9QJoR7ODLtq3F1T1QUzhE3vSSUJkv9acy3DWH5WvLY5aTM_aem_AUOyWZnUV0Xt-G4RnPiKY1Xu8vIe6b_WbnJIPsj8972q5LXWm6emAd5hdwoUX6Why4u9zTgwkX_ef3DYFBKjxFSp
X-ALT-DESC;FMTTYPE=text/html:Park Rapids Rotary Fireworks!! Come see one of the best shows in the area! Great viewing options would be Heartland Park\, Main Street\, and more! Grab a lawn chair and find your perfect spot to watch the show! Donate to the Park Rapids Rotary who (funds our fireworks show each year) below!<br />\n<br />\n<a href="https://www.parkrapidsrotary.com/?fbclid=IwZXh0bgNhZW0CMTAAAR1_S2606UYlt9QJoR7ODLtq3F1T1QUzhE3vSSUJkv9acy3DWH5WvLY5aTM_aem_AUOyWZnUV0Xt-G4RnPiKY1Xu8vIe6b_WbnJIPsj8972q5LXWm6emAd5hdwoUX6Why4u9zTgwkX_ef3DYFBKjxFSp">https://www.parkrapidsrotary.com/?fbclid=IwZXh0bgNhZW0CMTAAAR1_S2606UYlt9QJoR7ODLtq3F1T1QUzhE3vSSUJkv9acy3DWH5WvLY5aTM_aem_AUOyWZnUV0Xt-G4RnPiKY1Xu8vIe6b_WbnJIPsj8972q5LXWm6emAd5hdwoUX6Why4u9zTgwkX_ef3DYFBKjxFSp</a>
LOCATION:
UID:e.91.44748
SEQUENCE:3
DTSTAMP:20260424T130333Z
URL:https://business.parkrapids.com/events/details/4th-of-july-fireworks-44748
END:VEVENT

END:VCALENDAR
