BEGIN:VCALENDAR
VERSION:2.0
PRODID:-//ChamberMaster//Event Calendar 2.0//EN
METHOD:PUBLISH
X-PUBLISHED-TTL:P3D
REFRESH-INTERVAL:P3D
CALSCALE:GREGORIAN
BEGIN:VEVENT
DTSTART:20061125T060000Z
DTEND:20061125T060000Z
X-MICROSOFT-CDO-ALLDAYEVENT:FALSE
SUMMARY:A Very Celtic Christmas
DESCRIPTION:Presented by Northwind Crossing\n\nA special concert to start your holiday season off with traditional music from Ireland and Scotland.
X-ALT-DESC;FMTTYPE=text/html:Presented by Northwind Crossing\n\nA special concert to start your holiday season off with traditional music from Ireland and Scotland. 
LOCATION:Park Rapids High School Auditorium
UID:e.91.230
SEQUENCE:3
DTSTAMP:20260420T074930Z
URL:https://business.parkrapids.com/events/details/a-very-celtic-christmas-11-25-2006-230
END:VEVENT

END:VCALENDAR
