BEGIN:VCALENDAR
VERSION:2.0
PRODID:-//ChamberMaster//Event Calendar 2.0//EN
METHOD:PUBLISH
X-PUBLISHED-TTL:P3D
REFRESH-INTERVAL:P3D
CALSCALE:GREGORIAN
BEGIN:VEVENT
DTSTART:20070203T060000Z
DTEND:20070203T060000Z
X-MICROSOFT-CDO-ALLDAYEVENT:FALSE
SUMMARY:American Legion Community Fishing Contest
DESCRIPTION:
X-ALT-DESC;FMTTYPE=text/html:
LOCATION:Fishhook Lake Park Rapids
UID:e.91.225
SEQUENCE:3
DTSTAMP:20260420T025259Z
URL:https://business.parkrapids.com/events/details/american-legion-community-fishing-contest-02-03-2007-225
END:VEVENT

END:VCALENDAR
