BEGIN:VCALENDAR
VERSION:2.0
PRODID:-//ChamberMaster//Event Calendar 2.0//EN
METHOD:PUBLISH
X-PUBLISHED-TTL:P3D
REFRESH-INTERVAL:P3D
CALSCALE:GREGORIAN
BEGIN:VEVENT
DTSTART:20060923T050000Z
DTEND:20060923T050000Z
X-MICROSOFT-CDO-ALLDAYEVENT:FALSE
SUMMARY:Art Leap - Musical Events
DESCRIPTION:12:30 - Ray Vaadeland\, guitar & vocal\n1:15 - Anita & Walt Hannemann\, violin\, guitar\, mandolin and vocal\n2:00 - Northland Studio of Dance\, teenage dancers under direction of Denise Gulbranson\n3:00 - Deane Johnson & Roz Pederson\, playing 20th century classical music and jazz\n4:00 - Northern Light Opera Co.\, an extended scene from Haydn's Comic Opera\, The Apothecary\, an opera in progress.
X-ALT-DESC;FMTTYPE=text/html:12:30 - Ray Vaadeland\, guitar & vocal\n1:15 - Anita & Walt Hannemann\, violin\, guitar\, mandolin and vocal\n2:00 - Northland Studio of Dance\, teenage dancers under direction of Denise Gulbranson\n3:00 - Deane Johnson & Roz Pederson\, playing 20th century classical music and jazz\n4:00 - Northern Light Opera Co.\, an extended scene from Haydn's Comic Opera\, The Apothecary\, an opera in progress. 
LOCATION:Jasper's Jubilee Theater 1 miles east of PR on #34
UID:e.91.218
SEQUENCE:3
DTSTAMP:20260420T122118Z
URL:https://business.parkrapids.com/events/details/art-leap-musical-events-09-23-2006-218
END:VEVENT

END:VCALENDAR
