BEGIN:VCALENDAR
VERSION:2.0
PRODID:-//ChamberMaster//Event Calendar 2.0//EN
METHOD:PUBLISH
X-PUBLISHED-TTL:P3D
REFRESH-INTERVAL:P3D
CALSCALE:GREGORIAN
BEGIN:VEVENT
DTSTART;VALUE=DATE:20070624
DTEND;VALUE=DATE:20070625
TRANSP:TRANSPARENT
X-MICROSOFT-CDO-ALLDAYEVENT:TRUE
SUMMARY:Barbershoppers Concert
DESCRIPTION:St. Joseph's Hospital Auxillary Barbershop Concert\nFeaturing\nGreat Plains Harmomy Chorus of Fargo \nalso appearing will be two quartets\n\nTicket proceeds will benefit the St. Joseph's Hospital Expansion Project
X-ALT-DESC;FMTTYPE=text/html:<p align="center"><font size="4">St. Joseph&rsquo\;s Hospital Auxillary Barbershop Concert<br />Featuring<br />Great Plains Harmomy Chorus of Fargo&nbsp\;<br />also appearing will be two quartets<br /><br />Ticket proceeds will benefit the St. Joseph&rsquo\;s Hospital Expansion Project</font><br /></p>
LOCATION:Calvary Lutheran Church - Park Rapids\, MN
UID:e.91.282
SEQUENCE:3
DTSTAMP:20260419T212422Z
URL:https://business.parkrapids.com/events/details/barbershoppers-concert-06-24-2007-282
END:VEVENT

END:VCALENDAR
