BEGIN:VCALENDAR
VERSION:2.0
PRODID:-//ChamberMaster//Event Calendar 2.0//EN
METHOD:PUBLISH
X-PUBLISHED-TTL:P3D
REFRESH-INTERVAL:P3D
CALSCALE:GREGORIAN
BEGIN:VEVENT
DTSTART:20070212T060000Z
DTEND:20070505T050000Z
X-MICROSOFT-CDO-ALLDAYEVENT:FALSE
SUMMARY:Basic Nutrition I\, What You Need to Know to Keep Y
DESCRIPTION:Learn to weed through all the facts and hype of what makes up a healthy meal plan.  What are the basic nutrients needed to keep a person healthy. Class dates options: Feb 24\, March 24\, May 5th.
X-ALT-DESC;FMTTYPE=text/html:Learn to weed through all the facts and hype of what makes up a healthy meal plan.  What are the basic nutrients needed to keep a person healthy. Class dates options: Feb 24\, March 24\, May 5th.
LOCATION:Heartland Center\, 1 mile east of the stop lights by Northwoods bank on Hwy 34.
UID:e.91.261
SEQUENCE:3
DTSTAMP:20260419T231712Z
URL:https://business.parkrapids.com/events/details/basic-nutrition-i-what-you-need-to-know-to-keep-y-02-12-2007-261
END:VEVENT

END:VCALENDAR
