BEGIN:VCALENDAR
VERSION:2.0
PRODID:-//ChamberMaster//Event Calendar 2.0//EN
METHOD:PUBLISH
X-PUBLISHED-TTL:P3D
REFRESH-INTERVAL:P3D
CALSCALE:GREGORIAN
BEGIN:VEVENT
DTSTART:20070212T060000Z
DTEND:20070517T050000Z
X-MICROSOFT-CDO-ALLDAYEVENT:FALSE
SUMMARY:Basic Nutrition II
DESCRIPTION:In depth discussion of vitamins\, minerals and lifestyle recommendations to complement nutritional guidelines discussed in Basic Nutrition I.  Class Optional dates: March 8\, April 14\, May 17
X-ALT-DESC;FMTTYPE=text/html:In depth discussion of vitamins\, minerals and lifestyle recommendations to complement nutritional guidelines discussed in Basic Nutrition I.  Class Optional dates: March 8\, April 14\, May 17
LOCATION:1 mile East on Hwy 34 from the stoplights by Northwoods Bank
UID:e.91.262
SEQUENCE:3
DTSTAMP:20260419T212137Z
URL:https://business.parkrapids.com/events/details/basic-nutrition-ii-02-12-2007-262
END:VEVENT

END:VCALENDAR
