BEGIN:VCALENDAR
VERSION:2.0
PRODID:-//ChamberMaster//Event Calendar 2.0//EN
METHOD:PUBLISH
X-PUBLISHED-TTL:P3D
REFRESH-INTERVAL:P3D
CALSCALE:GREGORIAN
BEGIN:VEVENT
DTSTART:20240828T000000Z
DTEND:20240828T020000Z
X-MICROSOFT-CDO-ALLDAYEVENT:FALSE
SUMMARY:Behind the Gates Sunset Kayak Cruise Tamarac National Wildlife Refuge
DESCRIPTION:Take advantage of this exclusive opportunity to go "behind the gates" with refuge rangers for a cruise on Pine Lake. As you paddle along\, we'll be sharing stories about the history of Pine Lake\, the pine forests\, and the refuge in the fall. Bring your own kayak or canoe. Meet at the Pine Lake Access off County Hwy 29 for this one-hour paddle. Life jackets required.
X-ALT-DESC;FMTTYPE=text/html:<span style="color: rgb(0\, 0\, 0)\; font-family: Aptos\, Aptos_EmbeddedFont\, Aptos_MSFontService\, Calibri\, Helvetica\, sans-serif\; font-size: 16px\;">Take advantage of this exclusive opportunity to go &ldquo\;behind the gates&rdquo\; with refuge rangers for a cruise on Pine Lake. As you paddle along\, we&rsquo\;ll be sharing stories about the history of Pine Lake\, the pine forests\, and the refuge in the fall. Bring your own kayak or canoe. Meet at the Pine Lake Access off County Hwy 29 for this one-hour paddle. Life jackets required.</span>
LOCATION:Tamarac National Wildlife Refuge is located 9 miles north of the junction of County Hwy 34 and County Hwy 29
UID:e.91.44864
SEQUENCE:3
DTSTAMP:20260419T121419Z
URL:https://business.parkrapids.com/events/details/behind-the-gates-sunset-kayak-cruise-tamarac-national-wildlife-refuge-44864
END:VEVENT

END:VCALENDAR
