BEGIN:VCALENDAR
VERSION:2.0
PRODID:-//ChamberMaster//Event Calendar 2.0//EN
METHOD:PUBLISH
X-PUBLISHED-TTL:P3D
REFRESH-INTERVAL:P3D
CALSCALE:GREGORIAN
BEGIN:VEVENT
DTSTART:20070201T060000Z
DTEND:20070201T060000Z
X-MICROSOFT-CDO-ALLDAYEVENT:FALSE
SUMMARY:Chamber Business After Hours Open House and Kinshi
DESCRIPTION:Heartland Center will be hosting an after business open house Thursday February 1 from 5-7pm  In conjunction with the open house we will be offer a fund raising for our local Kinship Program.  Raffle tickests are available through the Chamber\, local Kinship members and at Heartland Center.  Tickets are 1 for $5 or 3 for $10.  Prizes to be awarded are being offered by the 6 businesses\, items offered are: spa packages\, massages\, body wraps\, facials\,  hand and foot care treatments\, fitness ball\, fitness bands\, arch supports\, healthy shopping classes\, ergonomic work station eval\, consult and eval for colon hydrotherapy
X-ALT-DESC;FMTTYPE=text/html:Heartland Center will be hosting an after business open house Thursday February 1 from 5-7pm  In conjunction with the open house we will be offer a fund raising for our local Kinship Program.  Raffle tickests are available through the Chamber\, local Kinship members and at Heartland Center.  Tickets are 1 for $5 or 3 for $10.  Prizes to be awarded are being offered by the 6 businesses\, items offered are: spa packages\, massages\, body wraps\, facials\,  hand and foot care treatments\, fitness ball\, fitness bands\, arch supports\, healthy shopping classes\, ergonomic work station eval\, consult and eval for colon hydrotherapy
LOCATION:1 mile East of the last stop lights in Park Rapids (by Northwoods Bank) on Hwy 34. Next door to OutDoor Enhancements and across from the radio station.
UID:e.91.247
SEQUENCE:3
DTSTAMP:20260420T025115Z
URL:https://business.parkrapids.com/events/details/chamber-business-after-hours-open-house-and-kinshi-02-01-2007-247
END:VEVENT

END:VCALENDAR
