BEGIN:VCALENDAR
VERSION:2.0
PRODID:-//ChamberMaster//Event Calendar 2.0//EN
METHOD:PUBLISH
X-PUBLISHED-TTL:P3D
REFRESH-INTERVAL:P3D
CALSCALE:GREGORIAN
BEGIN:VEVENT
DTSTART:20060909T050000Z
DTEND:20060909T050000Z
X-MICROSOFT-CDO-ALLDAYEVENT:FALSE
SUMMARY:Chamber Lodging Fall Golf Week
DESCRIPTION:
X-ALT-DESC;FMTTYPE=text/html:
LOCATION:Long Lake - Park Rapids
UID:e.91.76
SEQUENCE:3
DTSTAMP:20260420T121755Z
URL:https://business.parkrapids.com/events/details/chamber-lodging-fall-golf-week-09-09-2006-76
END:VEVENT

END:VCALENDAR
