BEGIN:VCALENDAR
VERSION:2.0
PRODID:-//ChamberMaster//Event Calendar 2.0//EN
METHOD:PUBLISH
X-PUBLISHED-TTL:P3D
REFRESH-INTERVAL:P3D
CALSCALE:GREGORIAN
BEGIN:VEVENT
DTSTART:20240801T230000Z
DTEND:20240802T010000Z
X-MICROSOFT-CDO-ALLDAYEVENT:FALSE
SUMMARY:Grillin' Lika Villain at 2nd Street Stage
DESCRIPTION:It's DeLaHunt Media's night to sponsor the band at 2nd Street Stage. \n\n \n\nWe'll be there\, grillin' like villains and trying to help out at the Tap Castle.\n\n \n\nThis is a free\, family event in downtown Park Rapids.
X-ALT-DESC;FMTTYPE=text/html:<div>It&#39\;s DeLaHunt Media&#39\;s night to sponsor the band at 2nd Street Stage.&nbsp\;</div>\n\n<div>&nbsp\;</div>\n\n<div>We&#39\;ll be there\, grillin&#39\; like villains and trying to help out at the Tap Castle.</div>\n\n<div>&nbsp\;</div>\n\n<div>This is a free\, family event in downtown Park Rapids.</div>\n
LOCATION:2nd Street Stage Downtown Park Rapids
UID:e.91.42253
SEQUENCE:3
DTSTAMP:20260421T084400Z
URL:https://business.parkrapids.com/events/details/chill-n-grill-n-at-2nd-street-stage-42253
END:VEVENT

END:VCALENDAR
