BEGIN:VCALENDAR
VERSION:2.0
PRODID:-//ChamberMaster//Event Calendar 2.0//EN
METHOD:PUBLISH
X-PUBLISHED-TTL:P3D
REFRESH-INTERVAL:P3D
CALSCALE:GREGORIAN
BEGIN:VEVENT
DTSTART:20070725T050000Z
DTEND:20070726T050000Z
X-MICROSOFT-CDO-ALLDAYEVENT:FALSE
SUMMARY:Crazy Days
DESCRIPTION:Shop Park Rapids for great deals!
X-ALT-DESC;FMTTYPE=text/html:Shop Park Rapids for great deals! 
LOCATION:Downtown Park Rapids
UID:e.91.51
SEQUENCE:3
DTSTAMP:20260419T174910Z
URL:https://business.parkrapids.com/events/details/crazy-days-07-25-2007-51
END:VEVENT

END:VCALENDAR
