BEGIN:VCALENDAR
VERSION:2.0
PRODID:-//ChamberMaster//Event Calendar 2.0//EN
METHOD:PUBLISH
X-PUBLISHED-TTL:P3D
REFRESH-INTERVAL:P3D
CALSCALE:GREGORIAN
BEGIN:VEVENT
DTSTART;VALUE=DATE:20220729
DTEND;VALUE=DATE:20220730
TRANSP:TRANSPARENT
X-MICROSOFT-CDO-ALLDAYEVENT:TRUE
SUMMARY:Crazy Days 2022
DESCRIPTION:Businesses go all out to make shopping fun for Crazy Days in Downtown Park Rapids Thursday\, July 28 and Friday\, July 29. \n\nOn Thursday free kids entertainment and activities in Pioneer Park will add to the festivities as a bonus to bargains shoppers will find both days.\n\nDonna Anderson\, University of Minnesota Extension SNAP-Ed Educator\, will offer chalk art\, water coloring\, coloring\, planting and an obstacle course starting at 8 a.m. in Pioneer Park. Anderson has brought the Go Wild with Fruits & Veggies! curriculum to Park Rapids 4th grade students for several years and this winter expanded the program to arts in health. This new component promotes the health benefits of arts engagement to children by developing popular fruit\, vegetable and activity-loving animal characters\, like Derek Deer\, Riley Raccoon and Becky Bear\, as artists.\n\nThe Park Rapids Downtown Business Association\, Park Rapids Area Library and Friends of the Library will sponsor Mixed Nuts starting at 10:30 a.m. in Pioneer Park. This free show for kids promises lots of laughs and audience participation.\n\nShop local like Crazy on sidewalks and inside stores both days.\n\nIn addition to the Park Rapids Downtown Business Association\, Arvig is a sponsor of Crazy Days this year.\n\nThe 2nd Street Stage Smokey Hills Tap Castle will open at 5 p.m. with a social hour from 5 to 6 p.m. and the free concert featuring The Limns from 6 to 8 p.m.
X-ALT-DESC;FMTTYPE=text/html:<p class="p1" style="margin: 20px 0px 0px\; padding: 0px\; border: 0px none\; border-radius: 0px\; box-shadow: none\; box-sizing: border-box\; outline: none\; color: rgb(81\, 81\, 81)\; font-family: Arimo\, sans-serif\; font-size: 16px\;"><span class="s1" style="margin: 0px\; padding: 0px\; border: 0px none\; border-radius: 0px\; box-shadow: none\; box-sizing: border-box\; outline: none\;">Businesses go all out to make shopping fun for Crazy Days in Downtown Park Rapids Thursday\, July 28 and Friday\, July 29.<span style="margin: 0px\; padding: 0px\; border: 0px none\; border-radius: 0px\; box-shadow: none\; box-sizing: border-box\; outline: none\;">&nbsp\;</span></span></p>\n\n<p class="p1" style="margin: 20px 0px 0px\; padding: 0px\; border: 0px none\; border-radius: 0px\; box-shadow: none\; box-sizing: border-box\; outline: none\; color: rgb(81\, 81\, 81)\; font-family: Arimo\, sans-serif\; font-size: 16px\;"><span class="s1" style="margin: 0px\; padding: 0px\; border: 0px none\; border-radius: 0px\; box-shadow: none\; box-sizing: border-box\; outline: none\;">On Thursday free kids entertainment and activities in Pioneer Park will add to the festivities as a bonus to bargains shoppers will find both days.</span></p>\n\n<p class="p1" style="margin: 20px 0px 0px\; padding: 0px\; border: 0px none\; border-radius: 0px\; box-shadow: none\; box-sizing: border-box\; outline: none\; color: rgb(81\, 81\, 81)\; font-family: Arimo\, sans-serif\; font-size: 16px\;"><span class="s1" style="margin: 0px\; padding: 0px\; border: 0px none\; border-radius: 0px\; box-shadow: none\; box-sizing: border-box\; outline: none\;">Donna Anderson\, University of Minnesota Extension SNAP-Ed Educator\, will offer chalk art\, water coloring\, coloring\, planting and an obstacle course starting at 8 a.m. in Pioneer Park. Anderson has brought the Go Wild with Fruits &amp\; Veggies! curriculum to Park Rapids 4th grade students for several years and this winter expanded the program to arts in health. This new component promotes the health benefits of arts engagement to children by developing popular fruit\, vegetable and activity-loving animal characters\, like Derek Deer\, Riley Raccoon and Becky Bear\, as artists.</span></p>\n\n<p class="p1" style="margin: 20px 0px 0px\; padding: 0px\; border: 0px none\; border-radius: 0px\; box-shadow: none\; box-sizing: border-box\; outline: none\; color: rgb(81\, 81\, 81)\; font-family: Arimo\, sans-serif\; font-size: 16px\;"><span class="s1" style="margin: 0px\; padding: 0px\; border: 0px none\; border-radius: 0px\; box-shadow: none\; box-sizing: border-box\; outline: none\;">The Park Rapids Downtown Business Association\, Park Rapids Area Library and Friends of the Library will sponsor Mixed Nuts starting at 10:30 a.m. in Pioneer Park. This free show for kids promises lots of laughs and audience participation.</span></p>\n\n<p class="p1" style="margin: 20px 0px 0px\; padding: 0px\; border: 0px none\; border-radius: 0px\; box-shadow: none\; box-sizing: border-box\; outline: none\; color: rgb(81\, 81\, 81)\; font-family: Arimo\, sans-serif\; font-size: 16px\;"><span class="s1" style="margin: 0px\; padding: 0px\; border: 0px none\; border-radius: 0px\; box-shadow: none\; box-sizing: border-box\; outline: none\;">Shop local like Crazy on sidewalks and inside stores both days.</span></p>\n\n<p class="p1" style="margin: 20px 0px 0px\; padding: 0px\; border: 0px none\; border-radius: 0px\; box-shadow: none\; box-sizing: border-box\; outline: none\; color: rgb(81\, 81\, 81)\; font-family: Arimo\, sans-serif\; font-size: 16px\;"><span class="s1" style="margin: 0px\; padding: 0px\; border: 0px none\; border-radius: 0px\; box-shadow: none\; box-sizing: border-box\; outline: none\;">In addition to the Park Rapids Downtown Business Association\, Arvig is a sponsor of Crazy Days this year.</span></p>\n\n<p class="p2" style="margin: 20px 0px 0px\; padding: 0px\; border: 0px none\; border-radius: 0px\; box-shadow: none\; box-sizing: border-box\; outline: none\; color: rgb(81\, 81\, 81)\; font-family: Arimo\, sans-serif\; font-size: 16px\;"><span class="s1" style="margin: 0px\; padding: 0px\; border: 0px none\; border-radius: 0px\; box-shadow: none\; box-sizing: border-box\; outline: none\;">The 2nd Street Stage Smokey Hills Tap Castle will open at 5 p.m. with a social hour from 5 to 6 p.m. and the free concert featuring The Limns from 6 to 8 p.m.</span></p>\n
LOCATION:Downtown Park Rapids
UID:e.91.39679
SEQUENCE:3
DTSTAMP:20260424T201051Z
URL:https://business.parkrapids.com/events/details/crazy-days-2022-39679
END:VEVENT

END:VCALENDAR
