BEGIN:VCALENDAR
VERSION:2.0
PRODID:-//ChamberMaster//Event Calendar 2.0//EN
METHOD:PUBLISH
X-PUBLISHED-TTL:P3D
REFRESH-INTERVAL:P3D
CALSCALE:GREGORIAN
BEGIN:VEVENT
DTSTART;VALUE=DATE:20070731
DTEND;VALUE=DATE:20070902
TRANSP:TRANSPARENT
X-MICROSOFT-CDO-ALLDAYEVENT:TRUE
SUMMARY:Crazy Quilters Exhibit ''There's no place like home''
DESCRIPTION:Featured displays include:\nTheme Challenge Quilts\nTisket-A-Tasket Basket Block of the Month Quilts\nService Project Work displays\nAnd Much\, Much More\nDisplay Open During Museum Hours
X-ALT-DESC;FMTTYPE=text/html:Featured displays include:\nTheme Challenge Quilts\nTisket-A-Tasket Basket Block of the Month Quilts\nService Project Work displays\nAnd Much\, Much More\nDisplay Open During Museum Hours\n
LOCATION:North Country Museum of Art 301 Court Ave\, Park Rapids\, MN
UID:e.91.241
SEQUENCE:3
DTSTAMP:20260419T160851Z
URL:https://business.parkrapids.com/events/details/crazy-quilters-exhibit-there-s-no-place-like-home-07-31-2007-241
END:VEVENT

END:VCALENDAR
