BEGIN:VCALENDAR
VERSION:2.0
PRODID:-//ChamberMaster//Event Calendar 2.0//EN
METHOD:PUBLISH
X-PUBLISHED-TTL:P3D
REFRESH-INTERVAL:P3D
CALSCALE:GREGORIAN
BEGIN:VEVENT
DTSTART:20061201T060000Z
DTEND:20061201T060000Z
X-MICROSOFT-CDO-ALLDAYEVENT:FALSE
SUMMARY:Darkhouse Spearing Opens
DESCRIPTION:
X-ALT-DESC;FMTTYPE=text/html:
LOCATION:
UID:e.91.103
SEQUENCE:3
DTSTAMP:20260420T055152Z
URL:https://business.parkrapids.com/events/details/darkhouse-spearing-opens-12-01-2006-103
END:VEVENT

END:VCALENDAR
