BEGIN:VCALENDAR
VERSION:2.0
PRODID:-//ChamberMaster//Event Calendar 2.0//EN
METHOD:PUBLISH
X-PUBLISHED-TTL:P3D
REFRESH-INTERVAL:P3D
CALSCALE:GREGORIAN
BEGIN:VEVENT
DTSTART:20070904T050000Z
DTEND:20070909T050000Z
X-MICROSOFT-CDO-ALLDAYEVENT:FALSE
SUMMARY:Dick Beardsly Marathon Running Camp
DESCRIPTION:
X-ALT-DESC;FMTTYPE=text/html:
LOCATION:
UID:e.91.75
SEQUENCE:3
DTSTAMP:20260419T142233Z
URL:https://business.parkrapids.com/events/details/dick-beardsly-marathon-running-camp-09-04-2007-75
END:VEVENT

END:VCALENDAR
