BEGIN:VCALENDAR
VERSION:2.0
PRODID:-//ChamberMaster//Event Calendar 2.0//EN
METHOD:PUBLISH
X-PUBLISHED-TTL:P3D
REFRESH-INTERVAL:P3D
CALSCALE:GREGORIAN
BEGIN:VEVENT
DTSTART;VALUE=DATE:20230412
DTEND;VALUE=DATE:20230413
TRANSP:TRANSPARENT
X-MICROSOFT-CDO-ALLDAYEVENT:TRUE
SUMMARY:Entrepreneurs Anonymous Meet Up
DESCRIPTION:Plan on joining us for our entrepreneurs meet up event! Come early at 7:30am to have a bite to eat\, some coffee and time to socialize. Meet up starts at 8am. We will be hosting these on the 2nd Wednesday of every month as a way to bring entrepreneurs together for support\, learning\, sharing\, etc.\n\nDo you have a problem you want a solution to? Do you want mentoring? Do you want specialized training on topics key to entrepreneurs? Do you want to just socialize with other entrepreneurs? Then this is the group for you!
X-ALT-DESC;FMTTYPE=text/html:<div class="m8h3af8h l7ghb35v kjdc1dyq kmwttqpk gh25dzvf" style="overflow-wrap: break-word\; margin: 0px\; font-family: &quot\;Segoe UI Historic&quot\;\, &quot\;Segoe UI&quot\;\, Helvetica\, Arial\, sans-serif\; color: rgb(5\, 5\, 5)\; font-size: 15px\;">Plan on joining us for our entrepreneurs meet up event! Come early at 7:30am to have a bite to eat\, some coffee and time to socialize. Meet up starts at 8am. We will be hosting these on the 2nd Wednesday of every month as a way to bring entrepreneurs together for support\, learning\, sharing\, etc.</div>\n\n<div class="l7ghb35v kjdc1dyq kmwttqpk gh25dzvf jikcssrz" style="overflow-wrap: break-word\; margin: 0.5em 0px 0px\; font-family: &quot\;Segoe UI Historic&quot\;\, &quot\;Segoe UI&quot\;\, Helvetica\, Arial\, sans-serif\; color: rgb(5\, 5\, 5)\; font-size: 15px\;">Do you have a problem you want a solution to? Do you want mentoring? Do you want specialized training on topics key to entrepreneurs? Do you want to just socialize with other entrepreneurs? Then this is the group for you!</div>\n\n<div class="l7ghb35v kjdc1dyq kmwttqpk gh25dzvf jikcssrz" style="overflow-wrap: break-word\; margin: 0.5em 0px 0px\; font-family: &quot\;Segoe UI Historic&quot\;\, &quot\;Segoe UI&quot\;\, Helvetica\, Arial\, sans-serif\; color: rgb(5\, 5\, 5)\; font-size: 15px\;">&nbsp\;</div>\n
LOCATION:The Hangar / Heartland Lakes Development Commission 100 8th Street E\, Park Rapids
UID:e.91.40093
SEQUENCE:3
DTSTAMP:20260424T152643Z
URL:https://business.parkrapids.com/events/details/entrepreneurs-anonymous-meet-up-04-12-2023-40093
END:VEVENT

END:VCALENDAR
