BEGIN:VCALENDAR
VERSION:2.0
PRODID:-//ChamberMaster//Event Calendar 2.0//EN
METHOD:PUBLISH
X-PUBLISHED-TTL:P3D
REFRESH-INTERVAL:P3D
CALSCALE:GREGORIAN
BEGIN:VEVENT
DTSTART:20070626T210000Z
DTEND:20070627T000000Z
X-MICROSOFT-CDO-ALLDAYEVENT:FALSE
SUMMARY:Essence of Thyme Wellness Spa Open House
DESCRIPTION:Essence of Thyme invites you to join them at their Open House.  Food and beverages will be provided.  Register for door prizes\, sign up for samplings of mini facials and massage.  Tour the facility and visit with our friendly staff.  Bring a friend who has never been to our spa and receive afree gift.
X-ALT-DESC;FMTTYPE=text/html:Essence of Thyme invites you to join them at their Open House.  Food and beverages will be provided.  Register for door prizes\, sign up for samplings of mini facials and massage.  Tour the facility and visit with our friendly staff.  Bring a friend who has never been to our spa and receive afree gift.
LOCATION:17261 State 34\, Park Rapids Located within the Heartland Center
UID:e.91.303
SEQUENCE:3
DTSTAMP:20260419T194036Z
URL:https://business.parkrapids.com/events/details/essence-of-thyme-wellness-spa-open-house-06-26-2007-303
END:VEVENT

END:VCALENDAR
