BEGIN:VCALENDAR
VERSION:2.0
PRODID:-//ChamberMaster//Event Calendar 2.0//EN
METHOD:PUBLISH
X-PUBLISHED-TTL:P3D
REFRESH-INTERVAL:P3D
CALSCALE:GREGORIAN
BEGIN:VEVENT
DTSTART;VALUE=DATE:20070711
DTEND;VALUE=DATE:20070712
TRANSP:TRANSPARENT
X-MICROSOFT-CDO-ALLDAYEVENT:TRUE
SUMMARY:Event at Smokey Hills Outdoor Store
DESCRIPTION:BBQ Ribs and Chicken Buffet Every Wed Night \nFresh salads and bread made the same day!\nCall 218-573-5267 and let us know your coming.\n1 mile West of Osage of HWY 34\nThe Cookhouse
X-ALT-DESC;FMTTYPE=text/html:BBQ Ribs and Chicken Buffet Every Wed Night \nFresh salads and bread made the same day!\nCall 218-573-5267 and let us know your coming.\n1 mile West of Osage of HWY 34\nThe Cookhouse 
LOCATION:1 mile West of Osage of HWY 34 The Cookhouse
UID:e.91.309
SEQUENCE:3
DTSTAMP:20260419T175216Z
URL:https://business.parkrapids.com/events/details/event-at-smokey-hills-outdoor-store-07-11-2007-309
END:VEVENT

END:VCALENDAR
