BEGIN:VCALENDAR
VERSION:2.0
PRODID:-//ChamberMaster//Event Calendar 2.0//EN
METHOD:PUBLISH
X-PUBLISHED-TTL:P3D
REFRESH-INTERVAL:P3D
CALSCALE:GREGORIAN
BEGIN:VEVENT
DTSTART;VALUE=DATE:20060610
DTEND;VALUE=DATE:20060611
TRANSP:TRANSPARENT
X-MICROSOFT-CDO-ALLDAYEVENT:TRUE
SUMMARY:Family Fun Fishing Tournament for Cystic Fibrosis
DESCRIPTION:Cedar Shores Resort hosts the 7th Annual Family Fun Fishing Tournament  on Long Lake to raise awareness and funds fro Cystic Fibrosis. \nCome for the raffle and silent auction. Sponser a boat for $35 and lunch is included.
X-ALT-DESC;FMTTYPE=text/html:Cedar Shores Resort hosts the 7th Annual Family Fun Fishing Tournament  on Long Lake to raise awareness and funds fro Cystic Fibrosis. \nCome for the raffle and silent auction. Sponser a boat for $35 and lunch is included.
LOCATION:Cedar Shores Resort on Long Lake
UID:e.91.189
SEQUENCE:3
DTSTAMP:20260420T154701Z
URL:https://business.parkrapids.com/events/details/family-fun-fishing-tournament-for-cystic-fibrosis-06-10-2006-189
END:VEVENT

END:VCALENDAR
