BEGIN:VCALENDAR
VERSION:2.0
PRODID:-//ChamberMaster//Event Calendar 2.0//EN
METHOD:PUBLISH
X-PUBLISHED-TTL:P3D
REFRESH-INTERVAL:P3D
CALSCALE:GREGORIAN
BEGIN:VEVENT
DTSTART:20060610T050000Z
DTEND:20060610T050000Z
X-MICROSOFT-CDO-ALLDAYEVENT:FALSE
SUMMARY:Family Fun Fishing Tournament for Cystic Fibrosis
DESCRIPTION:
X-ALT-DESC;FMTTYPE=text/html:
LOCATION:Cedar Shores Resort - Long Lake
UID:e.91.35
SEQUENCE:3
DTSTAMP:20260420T154655Z
URL:https://business.parkrapids.com/events/details/family-fun-fishing-tournament-for-cystic-fibrosis-06-10-2006-35
END:VEVENT

END:VCALENDAR
