BEGIN:VCALENDAR
VERSION:2.0
PRODID:-//ChamberMaster//Event Calendar 2.0//EN
METHOD:PUBLISH
X-PUBLISHED-TTL:P3D
REFRESH-INTERVAL:P3D
CALSCALE:GREGORIAN
BEGIN:VEVENT
DTSTART;VALUE=DATE:20210704
DTEND;VALUE=DATE:20210705
TRANSP:TRANSPARENT
X-MICROSOFT-CDO-ALLDAYEVENT:TRUE
SUMMARY:Fireworks
DESCRIPTION:Northern Minnesota's Premiere 4th of July Fireworks Display!\n \n\nThe Park Rapids Rotary Club proudly announces the 4th of July Rotary Fireworks will brighten our evening on Independence Day this year.\n\n\n\nAdditional information regarding the Fireworks activities can be followed the evening of the show by listening to local radio stations\, KDKK 97.5 FM and Hot Country 92.5 FM.  During the Fireworks show music will be choreographed on both stations with a pre-game starting at 9:00 PM. \n\n\n\nThe club continues to seek contributions to the Park Rapids Rotary Foundation Fireworks Fund\, a 501(c)3 so donations are 100 percent tax-deductible to the fullest extent of the law. Donors whose contributions are received by Wednesday\, June 23 will be recognized in Rotary's full-page newspaper ad which will be published July 3.\n\n\n\nAll fireworks payed for by local contributions.\n\n\n\nChecks\, made payable to the Park Rapids Rotary Foundation\, may be mailed to the Foundation at P.O. Box 704\, Park Rapids\, MN 56470
X-ALT-DESC;FMTTYPE=text/html:<h2><strong>Northern Minnesota&#39\;s Premiere 4th of July Fireworks Display!</strong></h2>\n&nbsp\;\n\n<div style="text-align: justify\;"><span style="color: rgb(28\, 30\, 33)\; font-family: Helvetica\, Arial\, sans-serif\; font-size: 14px\;">The Park Rapids Rotary Club proudly announces the 4th of July Rotary Fireworks will brighten our evening on Independence Day this year.</span><br />\n<br />\n<span class="text_exposed_show" style="display: inline\; font-family: Helvetica\, Arial\, sans-serif\; color: rgb(28\, 30\, 33)\; font-size: 14px\;">Additional information regarding the Fireworks activities can be followed the evening of the show by listening to local radio stations\, KDKK 97.5 FM and Hot Country 92.5 FM.&nbsp\; During the Fireworks show music will be choreographed on both stations with a pre-game starting at 9:00 PM.&nbsp\;<br />\n<br />\nThe club continues to seek contributions to the Park Rapids Rotary Foundation Fireworks Fund\, a 501(c)3 so donations are 100 percent tax-deductible to the fullest extent of the law. Donors whose contributions are received by Wednesday\, June 23&nbsp\;will be recognized in Rotary&rsquo\;s full-page newspaper ad which will be published July 3.<br />\n<br />\nAll fireworks payed for by local contributions.<br />\n<br />\nChecks\, made payable to the Park Rapids Rotary Foundation\, may be mailed to the Foundation at P.O. Box 704\, Park Rapids\, MN 56470</span></div>\n
LOCATION:Heartland Park
UID:e.91.34816
SEQUENCE:3
DTSTAMP:20260421T074159Z
URL:https://business.parkrapids.com/events/details/fireworks-34816
END:VEVENT

END:VCALENDAR
