BEGIN:VCALENDAR
VERSION:2.0
PRODID:-//ChamberMaster//Event Calendar 2.0//EN
METHOD:PUBLISH
X-PUBLISHED-TTL:P3D
REFRESH-INTERVAL:P3D
CALSCALE:GREGORIAN
BEGIN:VEVENT
DTSTART;VALUE=DATE:20070704
DTEND;VALUE=DATE:20070705
TRANSP:TRANSPARENT
X-MICROSOFT-CDO-ALLDAYEVENT:TRUE
SUMMARY:Fish Hook Lake and River Association Event - 4th of July Flotilla
DESCRIPTION:4th of July Flotilla
X-ALT-DESC;FMTTYPE=text/html:4th of July Flotilla
LOCATION:
UID:e.91.297
SEQUENCE:3
DTSTAMP:20260419T175352Z
URL:https://business.parkrapids.com/events/details/fish-hook-lake-and-river-association-event-4th-of-july-flotilla-07-04-2007-297
END:VEVENT

END:VCALENDAR
