BEGIN:VCALENDAR
VERSION:2.0
PRODID:-//ChamberMaster//Event Calendar 2.0//EN
METHOD:PUBLISH
X-PUBLISHED-TTL:P3D
REFRESH-INTERVAL:P3D
CALSCALE:GREGORIAN
BEGIN:VEVENT
DTSTART;VALUE=DATE:20070615
DTEND;VALUE=DATE:20070616
TRANSP:TRANSPARENT
X-MICROSOFT-CDO-ALLDAYEVENT:TRUE
SUMMARY:Fish Hook Lake and River Association Event - Annual Meeting
DESCRIPTION:Fish Hook Lake And River Association Annual Meeting\n6 pm Social Hour\n6:30 pm Dinner\nSpeaker - Ken Grob\, COLA President
X-ALT-DESC;FMTTYPE=text/html:<p>Fish Hook Lake And River Association Annual Meeting<br />6 pm Social Hour<br />6:30 pm Dinner<br />Speaker - Ken Grob\, COLA President</p>
LOCATION:Northern Pines Assembly Grounds
UID:e.91.296
SEQUENCE:3
DTSTAMP:20260419T194111Z
URL:https://business.parkrapids.com/events/details/fish-hook-lake-and-river-association-event-annual-meeting-06-15-2007-296
END:VEVENT

END:VCALENDAR
