BEGIN:VCALENDAR
VERSION:2.0
PRODID:-//ChamberMaster//Event Calendar 2.0//EN
METHOD:PUBLISH
X-PUBLISHED-TTL:P3D
REFRESH-INTERVAL:P3D
CALSCALE:GREGORIAN
BEGIN:VEVENT
DTSTART;VALUE=DATE:20070730
DTEND;VALUE=DATE:20070731
TRANSP:TRANSPARENT
X-MICROSOFT-CDO-ALLDAYEVENT:TRUE
SUMMARY:Fish Hook Lake and River Association Event - Women's Luncheon
DESCRIPTION:Women's Luncheon at Red Bridge Inn - 11:30 am
X-ALT-DESC;FMTTYPE=text/html:Women's Luncheon at Red Bridge Inn - 11:30 am
LOCATION:Red Bridge Inn - Park Rapids
UID:e.91.298
SEQUENCE:3
DTSTAMP:20260419T175321Z
URL:https://business.parkrapids.com/events/details/fish-hook-lake-and-river-association-event-women-s-luncheon-07-30-2007-298
END:VEVENT

END:VCALENDAR
