BEGIN:VCALENDAR
VERSION:2.0
PRODID:-//ChamberMaster//Event Calendar 2.0//EN
METHOD:PUBLISH
X-PUBLISHED-TTL:P3D
REFRESH-INTERVAL:P3D
CALSCALE:GREGORIAN
BEGIN:VEVENT
DTSTART:20070818T050000Z
DTEND:20070820T050000Z
X-MICROSOFT-CDO-ALLDAYEVENT:FALSE
SUMMARY:Forestedge Winery Art Fair
DESCRIPTION:Stroll along our nature trails\, visit our gift shop\, view local art displayed in our gallery\, and taste our elegant wines. Stay for an hour or the whole day. Remember to take some Forestedge Wine home to share with friends and family.
X-ALT-DESC;FMTTYPE=text/html:Stroll along our nature trails\, visit our gift shop\, view local art displayed in our gallery\, and taste our elegant wines. Stay for an hour or the whole day. Remember to take some Forestedge Wine home to share with friends and family.\n
LOCATION:35295 STATE 64 LAPORTE\, MN 56461
UID:e.91.69
SEQUENCE:3
DTSTAMP:20260419T160532Z
URL:https://business.parkrapids.com/events/details/forestedge-winery-art-fair-08-18-2007-69
END:VEVENT

END:VCALENDAR
