BEGIN:VCALENDAR
VERSION:2.0
PRODID:-//ChamberMaster//Event Calendar 2.0//EN
METHOD:PUBLISH
X-PUBLISHED-TTL:P3D
REFRESH-INTERVAL:P3D
CALSCALE:GREGORIAN
BEGIN:VEVENT
DTSTART;VALUE=DATE:20070704
DTEND;VALUE=DATE:20070705
TRANSP:TRANSPARENT
X-MICROSOFT-CDO-ALLDAYEVENT:TRUE
SUMMARY:Fourth of July Parade and Fireworks
DESCRIPTION:Join in the 4th of July Celebration starting with a action packed\, funfilled parade down Main Street in Park Rapids at the new time of 4:00 pm. There will be horses and rodeo stars along with many old favorites! At 7:30 pm the Community Band will entertain\, and the All Vets will be serving tempting summer goodies at Red Bridge Park throughout the day and evening. At dusk join the community for the fantastic Fireworks Display at Heartland Park! See you there!!
X-ALT-DESC;FMTTYPE=text/html:Join in the 4th of July Celebration starting with a action packed\, funfilled parade down Main Street in Park Rapids at the new time of 4:00 pm. There will be&nbsp\;horses and rodeo stars along with many old&nbsp\;favorites!&nbsp\;At 7:30 pm the Community Band will entertain\, and the All Vets will be serving tempting summer goodies at Red Bridge Park throughout the day and evening. At dusk join the community for the fantastic Fireworks Display at Heartland Park! See you there!!
LOCATION:Main Avenue\, Park Rapids
UID:e.91.46
SEQUENCE:3
DTSTAMP:20260419T175240Z
URL:https://business.parkrapids.com/events/details/fourth-of-july-parade-and-fireworks-07-04-2007-46
END:VEVENT

END:VCALENDAR
