BEGIN:VCALENDAR
VERSION:2.0
PRODID:-//ChamberMaster//Event Calendar 2.0//EN
METHOD:PUBLISH
X-PUBLISHED-TTL:P3D
REFRESH-INTERVAL:P3D
CALSCALE:GREGORIAN
BEGIN:VEVENT
DTSTART:20070310T060000Z
DTEND:20070310T060000Z
X-MICROSOFT-CDO-ALLDAYEVENT:FALSE
SUMMARY:Grand Opening and Customer Appreciation Open House
DESCRIPTION:Come and welcome our two new businesses now located within Heartland Center\, Select Therapy of Park Rapids and Itasca Naturopathic Clinic at their Grand Opening.  Heartland Center of Natural Healing\, Deborah K. Montzka DC\, Pinoniemi Chiropractic and Essence of Thyme Wellness Spa will be hosting a customer apprecitation during that time also.  There will be classes to attend\, staff on hand to talk to\, tours of our facility\, massages will be available\, refreshments will be served and register for the many door prizes that will be given away.
X-ALT-DESC;FMTTYPE=text/html:Come and welcome our two new businesses now located within Heartland Center\, Select Therapy of Park Rapids and Itasca Naturopathic Clinic at their Grand Opening.  Heartland Center of Natural Healing\, Deborah K. Montzka DC\, Pinoniemi Chiropractic and Essence of Thyme Wellness Spa will be hosting a customer apprecitation during that time also.  There will be classes to attend\, staff on hand to talk to\, tours of our facility\, massages will be available\, refreshments will be served and register for the many door prizes that will be given away.
LOCATION:Heartland Center is a 1 mile East of Park Rapids on Hwy 34. Located next door to Outdoor Enhancements and across from the radio station.
UID:e.91.248
SEQUENCE:3
DTSTAMP:20260420T005852Z
URL:https://business.parkrapids.com/events/details/grand-opening-and-customer-appreciation-open-house-03-10-2007-248
END:VEVENT

END:VCALENDAR
