BEGIN:VCALENDAR
VERSION:2.0
PRODID:-//ChamberMaster//Event Calendar 2.0//EN
METHOD:PUBLISH
X-PUBLISHED-TTL:P3D
REFRESH-INTERVAL:P3D
CALSCALE:GREGORIAN
BEGIN:VEVENT
DTSTART:20060915T050000Z
DTEND:20060917T050000Z
X-MICROSOFT-CDO-ALLDAYEVENT:FALSE
SUMMARY:Great Pumpkin Patch Festival
DESCRIPTION:Everything Pumpkin!! Pumpkin Carving\, Pumpkin Chunkin'\, Pumpkin Hurling\, Live Entertainment\, Food Court\, Huge Inflatable Family Fun Court
X-ALT-DESC;FMTTYPE=text/html:Everything Pumpkin!! Pumpkin Carving\, Pumpkin Chunkin'\, Pumpkin Hurling\, Live Entertainment\, Food Court\, Huge Inflatable Family Fun Court
LOCATION:Park Rapids
UID:e.91.80
SEQUENCE:3
DTSTAMP:20260420T110316Z
URL:https://business.parkrapids.com/events/details/great-pumpkin-patch-festival-09-15-2006-80
END:VEVENT

END:VCALENDAR
