BEGIN:VCALENDAR
VERSION:2.0
PRODID:-//ChamberMaster//Event Calendar 2.0//EN
METHOD:PUBLISH
X-PUBLISHED-TTL:P3D
REFRESH-INTERVAL:P3D
CALSCALE:GREGORIAN
BEGIN:VEVENT
DTSTART:20240823T170000Z
DTEND:20240823T180000Z
X-MICROSOFT-CDO-ALLDAYEVENT:FALSE
SUMMARY:Grillin' Lika Villain at Up North Power and Sports
DESCRIPTION:We're Grillin' Lika Villain at Up North Power and Sports\, Noon to 1. Up North Power and Sports will have special sales that day too.\n\n\n\n - In-store Blow-Out Pricing on Kawasaki Model Year '24\, Polaris Model Year 24 full line ups (including snow)\n\n - 25% off all in stock Apparel\, Helmets\, Gloves & Goggles.
X-ALT-DESC;FMTTYPE=text/html:We&#39\;re Grillin&#39\; Lika Villain at Up North Power and Sports\, Noon to 1. Up North Power and Sports will have special sales that day too.<br />\n<br />\n&nbsp\;- In-store Blow-Out Pricing on Kawasaki Model Year &#39\;24\, Polaris Model Year 24 full line ups (including snow)<br />\n&nbsp\;- 25% off all in stock Apparel\, Helmets\, Gloves &amp\; Goggles.
LOCATION:Up North Power and Sports 18884 Eagle Bend Rd Park Rapids\, MN 56470 5647 Eagle Bend Rd Park Rapids\, MN 5647
UID:e.91.44871
SEQUENCE:3
DTSTAMP:20260419T122424Z
URL:https://business.parkrapids.com/events/details/grillin-lika-villain-at-up-north-power-and-sports-44871
END:VEVENT

END:VCALENDAR
