BEGIN:VCALENDAR
VERSION:2.0
PRODID:-//ChamberMaster//Event Calendar 2.0//EN
METHOD:PUBLISH
X-PUBLISHED-TTL:P3D
REFRESH-INTERVAL:P3D
CALSCALE:GREGORIAN
BEGIN:VEVENT
DTSTART;VALUE=DATE:20230912
DTEND;VALUE=DATE:20230913
TRANSP:TRANSPARENT
X-MICROSOFT-CDO-ALLDAYEVENT:TRUE
SUMMARY:Headwaters Center for Lifelong Learning
DESCRIPTION:"Area Arts Community\," Sept. 12. Dawn Rossbach\, an enthusiastic participant in the thriving arts community\, describes the wide variety of arts-related opportunities in the Park Rapids area.
X-ALT-DESC;FMTTYPE=text/html:<ul style="background-repeat: no-repeat\; box-sizing: border-box\; margin: 10px 0px\; padding-right: 0px\; padding-left: 20px\; list-style-position: initial\; list-style-image: initial\; color: rgb(41\, 41\, 41)\; font-family: Georgia\; font-size: 20px\;">\n	<li style="background-repeat: no-repeat\; box-sizing: border-box\;">&ldquo\;Area Arts Community\,&rdquo\; Sept. 12. Dawn Rossbach\, an enthusiastic participant in the thriving arts community\, describes the wide variety of arts-related opportunities in the Park Rapids area.</li>\n</ul>\n
LOCATION:Event Room\, 1104 Park Ave. S.\, Suite 2\, in Park Rapids.
UID:e.91.42315
SEQUENCE:3
DTSTAMP:20260424T184705Z
URL:https://business.parkrapids.com/events/details/headwaters-center-for-lifelong-learning-42315
END:VEVENT

END:VCALENDAR
