BEGIN:VCALENDAR
VERSION:2.0
PRODID:-//ChamberMaster//Event Calendar 2.0//EN
METHOD:PUBLISH
X-PUBLISHED-TTL:P3D
REFRESH-INTERVAL:P3D
CALSCALE:GREGORIAN
BEGIN:VEVENT
DTSTART;VALUE=DATE:20240326
DTEND;VALUE=DATE:20240327
TRANSP:TRANSPARENT
X-MICROSOFT-CDO-ALLDAYEVENT:TRUE
SUMMARY:Headwaters Center for Lifelong Learning
DESCRIPTION:On March 26\, Ella Lundstrom\, a local adventurer and hiker\, takes us on her journey "hiking the Appalachian Trail\," with pictures and stories of her recent trek.
X-ALT-DESC;FMTTYPE=text/html:<span style="color: rgb(41\, 41\, 41)\; font-family: Georgia\; font-size: 20px\;">On March 26\, Ella Lundstrom\, a local adventurer and hiker\, takes us on her journey &ldquo\;hiking the Appalachian Trail\,&rdquo\; with pictures and stories of her recent trek.</span>
LOCATION:The Event Room in Park Rapids
UID:e.91.43576
SEQUENCE:3
DTSTAMP:20260422T161358Z
URL:https://business.parkrapids.com/events/details/headwaters-center-for-lifelong-learning-43576
END:VEVENT

END:VCALENDAR
