BEGIN:VCALENDAR
VERSION:2.0
PRODID:-//ChamberMaster//Event Calendar 2.0//EN
METHOD:PUBLISH
X-PUBLISHED-TTL:P3D
REFRESH-INTERVAL:P3D
CALSCALE:GREGORIAN
BEGIN:VEVENT
DTSTART:20060818T050000Z
DTEND:20060819T050000Z
X-MICROSOFT-CDO-ALLDAYEVENT:FALSE
SUMMARY:Headwaters Humane Society Rummage & Fall Plant Sal
DESCRIPTION:
X-ALT-DESC;FMTTYPE=text/html:
LOCATION:Humane Society Boardroom
UID:e.91.118
SEQUENCE:3
DTSTAMP:20260420T122312Z
URL:https://business.parkrapids.com/events/details/headwaters-humane-society-rummage-fall-plant-sal-08-18-2006-118
END:VEVENT

END:VCALENDAR
