BEGIN:VCALENDAR
VERSION:2.0
PRODID:-//ChamberMaster//Event Calendar 2.0//EN
METHOD:PUBLISH
X-PUBLISHED-TTL:P3D
REFRESH-INTERVAL:P3D
CALSCALE:GREGORIAN
BEGIN:VEVENT
DTSTART:20060421T050000Z
DTEND:20060421T050000Z
X-MICROSOFT-CDO-ALLDAYEVENT:FALSE
SUMMARY:Headwaters Humane Society Smelt Fry
DESCRIPTION:
X-ALT-DESC;FMTTYPE=text/html:
LOCATION:Park Rapids American Legion
UID:e.91.115
SEQUENCE:3
DTSTAMP:20260420T185631Z
URL:https://business.parkrapids.com/events/details/headwaters-humane-society-smelt-fry-04-21-2006-115
END:VEVENT

END:VCALENDAR
