BEGIN:VCALENDAR
VERSION:2.0
PRODID:-//ChamberMaster//Event Calendar 2.0//EN
METHOD:PUBLISH
X-PUBLISHED-TTL:P3D
REFRESH-INTERVAL:P3D
CALSCALE:GREGORIAN
BEGIN:VEVENT
DTSTART:20060915T050000Z
DTEND:20060928T050000Z
X-MICROSOFT-CDO-ALLDAYEVENT:FALSE
SUMMARY:Healing Oils of the Bible
DESCRIPTION:Learn about the 12 significant oils of scripture.  Essential oils were the medicines in ancient times\;  now translate them to modern day use!   You will enjoy the refreshing scents of myrtle and cedarwood\, the pungent aroma of galbanum\, the rich fragrances of frankincense and myrrh\, and more!  Presented by: Nancy Lennon.  Seating is limited\; reservations are required.  Call for reservations @ 218-237-7337.
X-ALT-DESC;FMTTYPE=text/html:Learn about the 12 significant oils of scripture.  Essential oils were the medicines in ancient times\;  now translate them to modern day use!   You will enjoy the refreshing scents of myrtle and cedarwood\, the pungent aroma of galbanum\, the rich fragrances of frankincense and myrrh\, and more!  Presented by: Nancy Lennon.  Seating is limited\; reservations are required.  Call for reservations @ 218-237-7337.
LOCATION:Red Bridge Inn\, 118 Washington Ave N\, Park Rapids\, MN
UID:e.91.219
SEQUENCE:3
DTSTAMP:20260420T110416Z
URL:https://business.parkrapids.com/events/details/healing-oils-of-the-bible-09-15-2006-219
END:VEVENT

END:VCALENDAR
