BEGIN:VCALENDAR
VERSION:2.0
PRODID:-//ChamberMaster//Event Calendar 2.0//EN
METHOD:PUBLISH
X-PUBLISHED-TTL:P3D
REFRESH-INTERVAL:P3D
CALSCALE:GREGORIAN
BEGIN:VEVENT
DTSTART:20071013T140000Z
DTEND:20071013T160000Z
X-MICROSOFT-CDO-ALLDAYEVENT:FALSE
SUMMARY:Healthy Children
DESCRIPTION:Do your children suffer from frequent ear infections\, asthma\, stomach aches?  Learn some things you can do to help.
X-ALT-DESC;FMTTYPE=text/html:Do your children suffer from frequent ear infections\, asthma\, stomach aches?  Learn some things you can do to help.
LOCATION:Heartland Center
UID:e.91.312
SEQUENCE:3
DTSTAMP:20260419T124430Z
URL:https://business.parkrapids.com/events/details/healthy-children-10-13-2007-312
END:VEVENT

END:VCALENDAR
