BEGIN:VCALENDAR
VERSION:2.0
PRODID:-//ChamberMaster//Event Calendar 2.0//EN
METHOD:PUBLISH
X-PUBLISHED-TTL:P3D
REFRESH-INTERVAL:P3D
CALSCALE:GREGORIAN
BEGIN:VEVENT
DTSTART:20070401T050000Z
DTEND:20070426T050000Z
X-MICROSOFT-CDO-ALLDAYEVENT:FALSE
SUMMARY:Healthy Detoxification\\Spring Cleanse
DESCRIPTION:Detoxification and cleansing are used to stimulate and support all the body's means of processing and eliminating hormones\, chemicals and other daily substance exposures. Toxic overload may contribute to illnesses such as allergies\, chemical sensitivity\, fibromyalgia\, IBS\, PMS\, perimenopause\, acne\, eczema and psoriasis.  You do not need to suffer from any particular illness to benefit from a detox/cleansing program.  It is beneficial to almost anyone who wants to improve their health.  Included in the program is a 30 minute consult with Rachel Oppitz\, ND to review labs\, do a bio-impedance analysis screen and for her to formulate a cleansing program that is tailored specifically for you\, it includes 3 classes to support you through the cleansing program and a follow-up BIA and 15 minute appointment with Rachel Oppitz\, ND to assess your results.
X-ALT-DESC;FMTTYPE=text/html:Detoxification and cleansing are used to stimulate and support all the body's means of processing and eliminating hormones\, chemicals and other daily substance exposures. Toxic overload may contribute to illnesses such as allergies\, chemical sensitivity\, fibromyalgia\, IBS\, PMS\, perimenopause\, acne\, eczema and psoriasis.  You do not need to suffer from any particular illness to benefit from a detox/cleansing program.  It is beneficial to almost anyone who wants to improve their health.  Included in the program is a 30 minute consult with Rachel Oppitz\, ND to review labs\, do a bio-impedance analysis screen and for her to formulate a cleansing program that is tailored specifically for you\, it includes 3 classes to support you through the cleansing program and a follow-up BIA and 15 minute appointment with Rachel Oppitz\, ND to assess your results.
LOCATION:Heartland Center
UID:e.91.263
SEQUENCE:3
DTSTAMP:20260419T231549Z
URL:https://business.parkrapids.com/events/details/healthy-detoxification-spring-cleanse-04-01-2007-263
END:VEVENT

END:VCALENDAR
