BEGIN:VCALENDAR
VERSION:2.0
PRODID:-//ChamberMaster//Event Calendar 2.0//EN
METHOD:PUBLISH
X-PUBLISHED-TTL:P3D
REFRESH-INTERVAL:P3D
CALSCALE:GREGORIAN
BEGIN:VEVENT
DTSTART:20060802T050000Z
DTEND:20060802T050000Z
X-MICROSOFT-CDO-ALLDAYEVENT:FALSE
SUMMARY:Heartland Trail Celebration
DESCRIPTION:Trail supporters\, advocates and the public are invited to a celebration of the connection of the Heartland State Trail. The event will be on Wednesday\, August 2\, at 1:30 pm at the site of the connection.\nBefore history is made by driving a Golden Spike at the precise location\, history will be made with words. Program particiapnts include: Officials of the U.S. Forest Service\, a national Bicycle Industry Spokesperson\, National & State Park & Trails Advocates and a Minnesota D. N. R. Official. All area elected officials are invited along with Chambers of Commerce Staff and Members.
X-ALT-DESC;FMTTYPE=text/html:Trail supporters\, advocates and the public are invited to a celebration of the connection of the Heartland State Trail. The event will be on Wednesday\, August 2\, at 1:30 pm at the site of the connection.\nBefore history is made by driving a Golden Spike at the precise location\, history will be made with words. Program particiapnts include: Officials of the U.S. Forest Service\, a national Bicycle Industry Spokesperson\, National & State Park & Trails Advocates and a Minnesota D. N. R. Official. All area elected officials are invited along with Chambers of Commerce Staff and Members. 
LOCATION:New Mile Post #66 on the Paul Bunyan Trail\, Mile Post #21.7 on the Heartland Trail\, 3/4 mile north of the State Highway 34 on Hubbard Rd. 26\, along the Cass/Hubbard County line. 4 miles N or Akeley.
UID:e.91.209
SEQUENCE:3
DTSTAMP:20260420T122024Z
URL:https://business.parkrapids.com/events/details/heartland-trail-celebration-08-02-2006-209
END:VEVENT

END:VCALENDAR
