BEGIN:VCALENDAR
VERSION:2.0
PRODID:-//ChamberMaster//Event Calendar 2.0//EN
METHOD:PUBLISH
X-PUBLISHED-TTL:P3D
REFRESH-INTERVAL:P3D
CALSCALE:GREGORIAN
BEGIN:VEVENT
DTSTART:20070714T150000Z
DTEND:20070714T210000Z
X-MICROSOFT-CDO-ALLDAYEVENT:FALSE
SUMMARY:Home and Garden Walk & Luncheon
DESCRIPTION:The Hubbard  United Methodist Church building fundraiser.\nSpecial Homes\, Beautiful Gardens\, Delicious Food
X-ALT-DESC;FMTTYPE=text/html:The Hubbard&nbsp\; United Methodist Church building fundraiser.<br />Special Homes\, Beautiful Gardens\, Delicious Food<br />
LOCATION:Lunch served at Church. Tour at your owm pace. Maps are provided. No children under 12
UID:e.91.302
SEQUENCE:3
DTSTAMP:20260419T175114Z
URL:https://business.parkrapids.com/events/details/home-and-garden-walk-luncheon-07-14-2007-302
END:VEVENT

END:VCALENDAR
