BEGIN:VCALENDAR
VERSION:2.0
PRODID:-//ChamberMaster//Event Calendar 2.0//EN
METHOD:PUBLISH
X-PUBLISHED-TTL:P3D
REFRESH-INTERVAL:P3D
CALSCALE:GREGORIAN
BEGIN:VEVENT
DTSTART:20060722T050000Z
DTEND:20060722T050000Z
X-MICROSOFT-CDO-ALLDAYEVENT:FALSE
SUMMARY:Home & Garden Walk
DESCRIPTION:The Hubbard United Methodist Church building fundraiser. Special Homes\, Beautiful Gardens\, Artists\, Delicious Food.\n\nTickets Available at:\nBookshelf 'n Office Supply\nBeagle Books\nHubbard United Methodist Church\n$25/ticket
X-ALT-DESC;FMTTYPE=text/html:The Hubbard United Methodist Church building fundraiser. Special Homes\, Beautiful Gardens\, Artists\, Delicious Food.\n\nTickets Available at:\nBookshelf 'n Office Supply\nBeagle Books\nHubbard United Methodist Church\n$25/ticket
LOCATION:Hubbard United Methodist Church
UID:e.91.142
SEQUENCE:3
DTSTAMP:20260420T140057Z
URL:https://business.parkrapids.com/events/details/home-garden-walk-07-22-2006-142
END:VEVENT

END:VCALENDAR
