BEGIN:VCALENDAR
VERSION:2.0
PRODID:-//ChamberMaster//Event Calendar 2.0//EN
METHOD:PUBLISH
X-PUBLISHED-TTL:P3D
REFRESH-INTERVAL:P3D
CALSCALE:GREGORIAN
BEGIN:VEVENT
DTSTART:20070611T003000Z
DTEND:20070611T020000Z
X-MICROSOFT-CDO-ALLDAYEVENT:FALSE
SUMMARY:Hubbard Brass & Friends Program: An Evening of Sacred Music
DESCRIPTION:The Hubbard United Methodist Church Music Ministry will present the second annual "Hubbard Brass   Hubbard Brass Quintet\; Hubbard Jazz Ensemble\; Instrumental and Vocal Solos along with congregational hymn singing.  A special appearance of the Brooklyn Park Liturgical Dance Ensemble will also perform.
X-ALT-DESC;FMTTYPE=text/html:The Hubbard United Methodist Church Music Ministry will present the second annual "Hubbard Brass & Friends Program:  An Evening of Sacred Music on Sunday\, June 10\, 7:30 pm.  The program will last 1 1/2 hrs and will include the Hubbard Choir\; Hubbard Brass Quintet\; Hubbard Jazz Ensemble\; Instrumental and Vocal Solos along with congregational hymn singing.  A special appearance of the Brooklyn Park Liturgical Dance Ensemble will also perform.
LOCATION:Hubbard United Methodist Church
UID:e.91.293
SEQUENCE:3
DTSTAMP:20260419T194139Z
URL:https://business.parkrapids.com/events/details/hubbard-brass-friends-program-an-evening-of-sacred-music-06-10-2007-293
END:VEVENT

END:VCALENDAR
