BEGIN:VCALENDAR
VERSION:2.0
PRODID:-//ChamberMaster//Event Calendar 2.0//EN
METHOD:PUBLISH
X-PUBLISHED-TTL:P3D
REFRESH-INTERVAL:P3D
CALSCALE:GREGORIAN
BEGIN:VEVENT
DTSTART:20060501T050000Z
DTEND:20060501T050000Z
X-MICROSOFT-CDO-ALLDAYEVENT:FALSE
SUMMARY:Hubbard County Historical Museum Opens
DESCRIPTION:
X-ALT-DESC;FMTTYPE=text/html:
LOCATION:301 Court Avenue Park Rapids\, MN
UID:e.91.17
SEQUENCE:3
DTSTAMP:20260420T170709Z
URL:https://business.parkrapids.com/events/details/hubbard-county-historical-museum-opens-05-01-2006-17
END:VEVENT

END:VCALENDAR
