BEGIN:VCALENDAR
VERSION:2.0
PRODID:-//ChamberMaster//Event Calendar 2.0//EN
METHOD:PUBLISH
X-PUBLISHED-TTL:P3D
REFRESH-INTERVAL:P3D
CALSCALE:GREGORIAN
BEGIN:VEVENT
DTSTART:20070711T050000Z
DTEND:20070715T050000Z
X-MICROSOFT-CDO-ALLDAYEVENT:FALSE
SUMMARY:Hubbard County Shell Prairie Fair
DESCRIPTION:Livestock Judging\, Horseshow\, Demolition Derby\, Tractor Pull\, Grandstand Shows\, Midway and Much More!
X-ALT-DESC;FMTTYPE=text/html:Livestock Judging\, Horseshow\, Demolition Derby\, Tractor Pull\, Grandstand Shows\, Midway and Much More!
LOCATION:Park Rapids\, MN
UID:e.91.48
SEQUENCE:3
DTSTAMP:20260419T174953Z
URL:https://business.parkrapids.com/events/details/hubbard-county-shell-prairie-fair-07-11-2007-48
END:VEVENT

END:VCALENDAR
