BEGIN:VCALENDAR
VERSION:2.0
PRODID:-//ChamberMaster//Event Calendar 2.0//EN
METHOD:PUBLISH
X-PUBLISHED-TTL:P3D
REFRESH-INTERVAL:P3D
CALSCALE:GREGORIAN
BEGIN:VEVENT
DTSTART:20260425T140000Z
DTEND:20260425T220000Z
X-MICROSOFT-CDO-ALLDAYEVENT:FALSE
SUMMARY:Independent Book Store Day at Beagle Books & Bindery
DESCRIPTION:Saturday\, April 25 |9am to 5pm\n\nLocated: 112 3rd St W (next to Bella Cafe & across from Studio 176)\nDrumroll please......\n\nBeagle Books and Bindery (along with Sister Wolf Books) will be celebrating Independent Bookstore Day from 9am to 5pm\, and it also marks the anniversary of bringing the two together back in 2015!\n\nThroughout the day there will be drawings and giveaways\, including 2026 Midwest Independent Bookstore maps\, Independent Bookstore Day bookmarks\, and a free advance reader copy with any purchase. They'll have refreshments\, activities for kids\, and exclusive merchandise created just for the day available to purchase. It's going to be amazing\, or should I say bookmazing Ha! \n\nClick here for all the festive details.\n\n\n\nAnd while you're there\, check out their calendar of events to see what they have coming your way this spring. Make sure to keep an eye on it so you don't miss any of their bookmazing events later this summer :)!
X-ALT-DESC;FMTTYPE=text/html:<span style="font-family: Helvetica\; font-size: 16px\; color: rgb(0\, 0\, 0)\;"><span style="font-family: roboto\, &quot\;helvetica neue&quot\;\, helvetica\, arial\, sans-serif\;"><span style="font-size: 18px\;">Saturday\, April 25 |</span></span><span style="font-size: 18px\;">9am to 5pm<br />\n<span style="font-family: roboto\, &quot\;helvetica neue&quot\;\, helvetica\, arial\, sans-serif\;"><span class="LrzXr">Located: 112 3rd St W (next to Bella Cafe &amp\; across from Studio 176)</span></span></span></span>\n<p class="isSelectedEnd" style="margin: 10px 0px\; padding: 0px\; text-size-adjust: 100%\; color: rgb(117\, 117\, 117)\; font-family: Helvetica\; font-size: 16px\; line-height: 24px\;"><span style="color: rgb(0\, 0\, 0)\;"><span style="font-size: 18px\;">Drumroll please......</span></span></p>\n\n<p class="isSelectedEnd" style="margin: 10px 0px\; padding: 0px\; text-size-adjust: 100%\; color: rgb(117\, 117\, 117)\; font-family: Helvetica\; font-size: 16px\; line-height: 24px\;"><span style="color: rgb(0\, 0\, 0)\;"><span style="font-size: 18px\;"><span style="font-family: roboto\, &quot\;helvetica neue&quot\;\, helvetica\, arial\, sans-serif\;">Beagle Books and Bindery (along with Sister Wolf Books) will be celebrating Independent Bookstore Day from 9am to 5pm\, and it also marks the anniversary of bringing the two together back in 2015!</span></span></span></p>\n\n<p style="margin: 10px 0px\; padding: 0px\; text-size-adjust: 100%\; color: rgb(117\, 117\, 117)\; font-family: Helvetica\; font-size: 16px\; line-height: 24px\;"><span style="color: rgb(0\, 0\, 0)\;"><span style="font-size: 18px\;"><span style="font-family: roboto\, &quot\;helvetica neue&quot\;\, helvetica\, arial\, sans-serif\;">Throughout the day there will be drawings and giveaways\, including 2026 Midwest Independent Bookstore maps\, Independent Bookstore Day bookmarks\, and a free advance reader copy with any purchase. They&rsquo\;ll have refreshments\, activities for kids\, and exclusive merchandise created just for the day available to purchase. It&#39\;s going to be amazing\, or should I say bookmazing&ndash\;Ha!&nbsp\;</span></span></span><br />\n<a href="https://beagleandwolf.com/events/4980320260425" style="text-size-adjust: 100%\; color: rgb(0\, 124\, 137)\; font-family: roboto\, &quot\;helvetica neue&quot\;\, helvetica\, arial\, sans-serif\; font-size: 18px\;" target="_blank">Click here</a><span style="color: rgb(0\, 0\, 0)\; font-family: roboto\, &quot\;helvetica neue&quot\;\, helvetica\, arial\, sans-serif\; font-size: 18px\;">&nbsp\;for all the festive details.</span><br style="color: rgb(0\, 0\, 0)\; font-family: roboto\, &quot\;helvetica neue&quot\;\, helvetica\, arial\, sans-serif\; font-size: 18px\;" />\n<br style="color: rgb(0\, 0\, 0)\; font-family: roboto\, &quot\;helvetica neue&quot\;\, helvetica\, arial\, sans-serif\; font-size: 18px\;" />\n<span style="color: rgb(0\, 0\, 0)\; font-family: roboto\, &quot\;helvetica neue&quot\;\, helvetica\, arial\, sans-serif\; font-size: 18px\;">And while you&#39\;re there\, check out their&nbsp\;</span><a href="https://beagleandwolf.com/events" style="text-size-adjust: 100%\; color: rgb(0\, 124\, 137)\; font-family: roboto\, &quot\;helvetica neue&quot\;\, helvetica\, arial\, sans-serif\; font-size: 18px\;" target="_blank">calendar of events</a><span style="color: rgb(0\, 0\, 0)\; font-family: roboto\, &quot\;helvetica neue&quot\;\, helvetica\, arial\, sans-serif\; font-size: 18px\;">&nbsp\;to see what they have coming your way this spring. Make sure to keep an eye on it so you don&#39\;t miss any of their bookmazing events later this summer :)!</span></p>\n
LOCATION:
UID:e.91.49490
SEQUENCE:3
DTSTAMP:20260422T085413Z
URL:https://business.parkrapids.com/events/details/independent-book-store-day-at-beagle-books-bindery-49490
END:VEVENT

END:VCALENDAR
