BEGIN:VCALENDAR
VERSION:2.0
PRODID:-//ChamberMaster//Event Calendar 2.0//EN
METHOD:PUBLISH
X-PUBLISHED-TTL:P3D
REFRESH-INTERVAL:P3D
CALSCALE:GREGORIAN
BEGIN:VEVENT
DTSTART:20240701T000000Z
DTEND:20240701T010000Z
X-MICROSOFT-CDO-ALLDAYEVENT:FALSE
SUMMARY:Itasca's Evening Under the Pines: Music by Park Rapids Area Community Band
DESCRIPTION:Sit outside historic Douglas Lodge and enjoy a lively concert by the 50-member Park Rapids Area Community Band. These talented musicians play a mix of patriotic\, popular\, and classic songs. This performance is outdoors. Bring your own lawn chair or blanket. Pets on leashes welcome.\n\n\n\nGrab a bite to eat before the concert! The Douglas Lodge Restaurant is open Thursday-Sunday\, 11 AM-5 PM. \n\n\n\nThe Friends of Itasca State Park volunteer group will be hosting an ice cream social at this event.
X-ALT-DESC;FMTTYPE=text/html:<span style="font-family:arial\,helvetica\,sans-serif"><span style="font-size:16px">Sit outside historic Douglas Lodge and enjoy a lively concert by the 50-member Park Rapids Area Community Band. These talented musicians play a mix of patriotic\, popular\, and classic songs. This performance is outdoors. Bring your own lawn chair or blanket. Pets on leashes welcome.<br />\n<br />\nGrab a bite to eat before the concert! The Douglas Lodge Restaurant is open Thursday-Sunday\, 11 AM-5 PM.&nbsp\;</span><br />\n<br />\n<em><span style="font-size:16px">The Friends of Itasca State Park&nbsp\;volunteer group will be hosting an ice cream social at this event.&nbsp\;</span></em></span><br />\n&nbsp\;
LOCATION:Itasca State Park Douglas Lodge
UID:e.91.44751
SEQUENCE:3
DTSTAMP:20260420T112312Z
URL:https://business.parkrapids.com/events/details/itasca-s-evening-under-the-pines-music-by-the-park-rapids-area-community-band-44751
END:VEVENT

END:VCALENDAR
