BEGIN:VCALENDAR
VERSION:2.0
PRODID:-//ChamberMaster//Event Calendar 2.0//EN
METHOD:PUBLISH
X-PUBLISHED-TTL:P3D
REFRESH-INTERVAL:P3D
CALSCALE:GREGORIAN
BEGIN:VEVENT
DTSTART:20060509T050000Z
DTEND:20060521T050000Z
X-MICROSOFT-CDO-ALLDAYEVENT:FALSE
SUMMARY:Jackpine Writers' Bloc
DESCRIPTION:A forum for writers.
X-ALT-DESC;FMTTYPE=text/html:A forum for writers.
LOCATION:
UID:e.91.167
SEQUENCE:3
DTSTAMP:20260420T170324Z
URL:https://business.parkrapids.com/events/details/jackpine-writers-bloc-05-09-2006-167
END:VEVENT

END:VCALENDAR
