BEGIN:VCALENDAR
VERSION:2.0
PRODID:-//ChamberMaster//Event Calendar 2.0//EN
METHOD:PUBLISH
X-PUBLISHED-TTL:P3D
REFRESH-INTERVAL:P3D
CALSCALE:GREGORIAN
BEGIN:VEVENT
DTSTART:20061220T060000Z
DTEND:20061220T060000Z
X-MICROSOFT-CDO-ALLDAYEVENT:FALSE
SUMMARY:Jingle Bells Drawing & Gala
DESCRIPTION:Drawing for the big $10\,000 prize\, door prizes\, second chance drawings\, food and music at Century School
X-ALT-DESC;FMTTYPE=text/html:Drawing for the big $10\,000 prize\, door prizes\, second chance drawings\, food and music at Century School
LOCATION:Century School - Park Rapids
UID:e.91.106
SEQUENCE:3
DTSTAMP:20260420T055308Z
URL:https://business.parkrapids.com/events/details/jingle-bells-drawing-gala-12-20-2006-106
END:VEVENT

END:VCALENDAR
