BEGIN:VCALENDAR
VERSION:2.0
PRODID:-//ChamberMaster//Event Calendar 2.0//EN
METHOD:PUBLISH
X-PUBLISHED-TTL:P3D
REFRESH-INTERVAL:P3D
CALSCALE:GREGORIAN
BEGIN:VEVENT
DTSTART:20061101T060000Z
DTEND:20061216T060000Z
X-MICROSOFT-CDO-ALLDAYEVENT:FALSE
SUMMARY:Jingle Bells Kickoff
DESCRIPTION:Do your Holiday Shopping at participating Park Rapids retailers and recieve chances to win the $10\,000 Grand Prize~
X-ALT-DESC;FMTTYPE=text/html:Do your Holiday Shopping at participating Park Rapids retailers and recieve chances to win the $10\,000 Grand Prize~
LOCATION:Participating Park Rapids Retailers
UID:e.91.96
SEQUENCE:3
DTSTAMP:20260420T074620Z
URL:https://business.parkrapids.com/events/details/jingle-bells-kickoff-11-01-2006-96
END:VEVENT

END:VCALENDAR
