BEGIN:VCALENDAR
VERSION:2.0
PRODID:-//ChamberMaster//Event Calendar 2.0//EN
METHOD:PUBLISH
X-PUBLISHED-TTL:P3D
REFRESH-INTERVAL:P3D
CALSCALE:GREGORIAN
BEGIN:VEVENT
DTSTART:20070620T050000Z
DTEND:20070620T050000Z
X-MICROSOFT-CDO-ALLDAYEVENT:FALSE
SUMMARY:Jr. PGA Tournament
DESCRIPTION:
X-ALT-DESC;FMTTYPE=text/html:
LOCATION:Headwaters Country Club - Park Rapids
UID:e.91.40
SEQUENCE:3
DTSTAMP:20260419T193855Z
URL:https://business.parkrapids.com/events/details/jr-pga-tournament-06-20-2007-40
END:VEVENT

END:VCALENDAR
