BEGIN:VCALENDAR
VERSION:2.0
PRODID:-//ChamberMaster//Event Calendar 2.0//EN
METHOD:PUBLISH
X-PUBLISHED-TTL:P3D
REFRESH-INTERVAL:P3D
CALSCALE:GREGORIAN
BEGIN:VEVENT
DTSTART;VALUE=DATE:20070501
DTEND;VALUE=DATE:20070521
TRANSP:TRANSPARENT
X-MICROSOFT-CDO-ALLDAYEVENT:TRUE
SUMMARY:Juried High School Fine Art Exhibition
DESCRIPTION:Juried High School Fine Art Exhibition from Tuesday May 1 through Sunday May 20.  Closing Reception & Award Ceremony May 20.
X-ALT-DESC;FMTTYPE=text/html:Juried High School Fine Art Exhibition from Tuesday May 1 through Sunday May 20.  Closing Reception & Award Ceremony May 20.
LOCATION:Great Hall
UID:e.91.259
SEQUENCE:3
DTSTAMP:20260419T231925Z
URL:https://business.parkrapids.com/events/details/juried-high-school-fine-art-exhibition-05-01-2007-259
END:VEVENT

END:VCALENDAR
